View In:
ArcGIS JavaScript
ArcGIS Online Map Viewer
ArcGIS Earth
Service Description: Manitowoc County Aerial 2017
Name: Aerial/ManitowocAerial_2017
Description: Manitowoc County Aerial 2017
Single Fused Map Cache: false
Extent:
XMin: 126130.00000079353
YMin: 224997.5218076556
XMax: 275601.52390309994
YMax: 388819.9999992068
Spatial Reference: 103435
(103435)
LatestVCSWkid(0)
Initial Extent:
XMin: 126130.00000079353
YMin: 224997.5218076556
XMax: 275601.52390309994
YMax: 388819.9999992068
Spatial Reference: 103435
(103435)
LatestVCSWkid(0)
Full Extent:
XMin: 126130.00000079353
YMin: 224997.5218076556
XMax: 275601.52390309994
YMax: 388819.9999992068
Spatial Reference: 103435
(103435)
LatestVCSWkid(0)
Pixel Size X: 0.4999984074017421
Pixel Size Y: 0.4999984074017421
Band Count: 3
Pixel Type: U8
RasterFunction Infos: {"rasterFunctionInfos": [{
"name": "None",
"description": "",
"help": ""
}]}
Mensuration Capabilities: Basic
Inspection Capabilities:
Has Histograms: true
Has Colormap: false
Has Multi Dimensions : false
Rendering Rule:
Min Scale: 0
Max Scale: 0
Resampling: false
Copyright Text:
Service Data Type: esriImageServiceDataTypeRGB
Min Values: 0, 20, 17
Max Values: 255, 255, 255
Mean Values: 166.73184931507, 157.15616438356, 137.31352739726
Standard Deviation Values: 57.263324817747, 60.801470075733, 71.579959279355
Object ID Field:
Fields:
None
Default Mosaic Method: Center
Allowed Mosaic Methods:
SortField:
SortValue: null
Mosaic Operator: First
Default Compression Quality: 75
Default Resampling Method: Bilinear
Max Record Count: null
Max Image Height: 4100
Max Image Width: 15000
Max Download Image Count: null
Max Mosaic Image Count: null
Allow Raster Function: true
Allow Copy: true
Allow Analysis: true
Allow Compute TiePoints: false
Supports Statistics: false
Supports Advanced Queries: false
Use StandardizedQueries: true
Raster Type Infos:
Name: Raster Dataset
Description: Supports all ArcGIS Raster Datasets
Help:
Has Raster Attribute Table: false
Edit Fields Info: null
Ownership Based AccessControl For Rasters: null
Child Resources:
Info
Histograms
Statistics
Key Properties
Legend
Raster Function Infos
Supported Operations:
Export Image
Identify
Measure
Compute Histograms
Compute Statistics Histograms
Get Samples
Compute Class Statistics
Query Boundary
Compute Pixel Location
Compute Angles
Validate
Project