{
 "currentVersion": 11.5,
 "serviceDescription": "Manitowoc County Aerial 2017",
 "name": "Aerial/ManitowocAerial_2017",
 "description": "Manitowoc County Aerial 2017",
 "extent": {
  "xmin": 126130.00000079353,
  "ymin": 224997.5218076556,
  "xmax": 275601.52390309994,
  "ymax": 388819.9999992068,
  "spatialReference": {
   "wkid": 103435,
   "latestWkid": 103435
  }
 },
 "initialExtent": {
  "xmin": 126130.00000079353,
  "ymin": 224997.5218076556,
  "xmax": 275601.52390309994,
  "ymax": 388819.9999992068,
  "spatialReference": {
   "wkid": 103435,
   "latestWkid": 103435
  }
 },
 "fullExtent": {
  "xmin": 126130.00000079353,
  "ymin": 224997.5218076556,
  "xmax": 275601.52390309994,
  "ymax": 388819.9999992068,
  "spatialReference": {
   "wkid": 103435,
   "latestWkid": 103435
  }
 },
 "sortableFields": "",
 "bandCount": 3,
 "pixelType": "U8",
 "minValues": [
  0,
  20,
  17
 ],
 "maxValues": [
  255,
  255,
  255
 ],
 "meanValues": [
  166.73184931507,
  157.15616438356,
  137.31352739726
 ],
 "stdvValues": [
  57.263324817747,
  60.801470075733,
  71.579959279355
 ],
 "serviceProperties": "Center<\/MosaicMethod>First<\/MosaicOperator>true<\/SortAscending><\/LockImageID><\/TileOrderField>0<\/TileOrderBase>0.000000<\/AvgImageSpacingX>0.000000<\/AvgImageSpacingY>0.0<\/ViewPointX>0.0<\/ViewPointY>0.0<\/ViewPointDefShiftX>0.0<\/ViewPointDefShiftY>None<\/CompressionMethod>75<\/CompressionQuality>0.010000<\/CompressionTolerance>Bilinear<\/SamplingMethod><\/ImageServiceProperties><\/ImageServer>",
 "allowedFields": "",
 "hasMultidimensions": false,
 "pixelSizeX": 0.4999984074017421,
 "pixelSizeY": 0.4999984074017421,
 "meanPixelSize": 0.15239981937568978,
 "datasetFormat": "MrSID",
 "uncompressedSize": 293843417472,
 "blockWidth": 1024,
 "blockHeight": 128,
 "compressionType": "Wavelet (MG3)",
 "bandNames": [
  "Band_1",
  "Band_2",
  "Band_3"
 ],
 "allowCopy": true,
 "allowAnalysis": true,
 "itemAccess": false,
 "inspectionCapabilities": "",
 "minPixelSize": 0,
 "maxPixelSize": 0,
 "copyrightText": "",
 "serviceDataType": "esriImageServiceDataTypeRGB",
 "serviceSourceType": "esriImageServiceSourceTypeDataset",
 "objectIdField": "",
 "fields": [],
 "capabilities": "Mensuration,Image,Metadata",
 "defaultMosaicMethod": "Center",
 "allowedMosaicMethods": "",
 "sortField": "",
 "sortValue": null,
 "sortAscending": true,
 "mosaicOperator": "First",
 "defaultCompressionQuality": 75,
 "defaultResamplingMethod": "Bilinear",
 "maxImageHeight": 4100,
 "maxImageWidth": 15000,
 "allowRasterFunction": true,
 "rasterFunctionInfos": [
  {
   "name": "None",
   "description": "",
   "help": ""
  }
 ],
 "rasterTypeInfos": [
  {
   "name": "Raster Dataset",
   "description": "Supports all ArcGIS Raster Datasets",
   "help": ""
  }
 ],
 "mensurationCapabilities": "Basic",
 "hasHistograms": true,
 "hasColormap": false,
 "hasRasterAttributeTable": false,
 "minScale": 0,
 "maxScale": 0,
 "exportTilesAllowed": false,
 "supportsStatistics": false,
 "supportsAdvancedQueries": false,
 "editFieldsInfo": null,
 "ownershipBasedAccessControlForRasters": null,
 "allowComputeTiePoints": false,
 "useStandardizedQueries": true,
 "advancedQueryCapabilities": {
  "useStandardizedQueries": true,
  "supportsStatistics": false,
  "supportsOrderBy": false,
  "supportsDistinct": false,
  "supportsPagination": false
 },
 "spatialReference": {
  "wkid": 103435,
  "latestWkid": 103435
 },
 "resampling": false
}
