View In:
ArcGIS JavaScript
ArcGIS Online Map Viewer
ArcGIS Earth
Service Description: Manitowoc County Aerial 2010
Name: Aerial/ManitowocAerial_2010
Description: Manitowoc County Aerial 2010
Single Fused Map Cache: false
Extent:
XMin: 121293.692786
YMin: 226593.58600000013
XMax: 275486.69278599985
YMax: 388349.586
Spatial Reference: 103435
(103435)
LatestVCSWkid(0)
Initial Extent:
XMin: 121293.692786
YMin: 226593.58600000013
XMax: 275486.69278599985
YMax: 388349.586
Spatial Reference: 103435
(103435)
LatestVCSWkid(0)
Full Extent:
XMin: 121293.692786
YMin: 226593.58600000013
XMax: 275486.69278599985
YMax: 388349.586
Spatial Reference: 103435
(103435)
LatestVCSWkid(0)
Pixel Size X: 0.999999999999999
Pixel Size Y: 0.9999999999999993
Band Count: 3
Pixel Type: U8
RasterFunction Infos: {"rasterFunctionInfos": [{
"name": "None",
"description": "",
"help": ""
}]}
Mensuration Capabilities: Basic
Inspection Capabilities:
Has Histograms: true
Has Colormap: false
Has Multi Dimensions : false
Rendering Rule:
Min Scale: 0
Max Scale: 0
Resampling: false
Copyright Text:
Service Data Type: esriImageServiceDataTypeRGB
Min Values: 0, 0, 2
Max Values: 255, 255, 255
Mean Values: 141.94120586276, 141.97001998668, 135.67205196536
Standard Deviation Values: 72.667773490561, 71.139730060899, 74.439718546319
Object ID Field:
Fields:
None
Default Mosaic Method: Center
Allowed Mosaic Methods:
SortField:
SortValue: null
Mosaic Operator: First
Default Compression Quality: 75
Default Resampling Method: Bilinear
Max Record Count: null
Max Image Height: 4100
Max Image Width: 15000
Max Download Image Count: null
Max Mosaic Image Count: null
Allow Raster Function: true
Allow Copy: true
Allow Analysis: true
Allow Compute TiePoints: false
Supports Statistics: false
Supports Advanced Queries: false
Use StandardizedQueries: true
Raster Type Infos:
Name: Raster Dataset
Description: Supports all ArcGIS Raster Datasets
Help:
Has Raster Attribute Table: false
Edit Fields Info: null
Ownership Based AccessControl For Rasters: null
Child Resources:
Info
Histograms
Statistics
Key Properties
Legend
Raster Function Infos
Supported Operations:
Export Image
Identify
Measure
Compute Histograms
Compute Statistics Histograms
Get Samples
Compute Class Statistics
Query Boundary
Compute Pixel Location
Compute Angles
Validate
Project