{
 "currentVersion": 11.5,
 "serviceDescription": "Manitowoc County Aerial 2010",
 "name": "Aerial/ManitowocAerial_2010",
 "description": "Manitowoc County Aerial 2010",
 "extent": {
  "xmin": 121293.692786,
  "ymin": 226593.58600000013,
  "xmax": 275486.69278599985,
  "ymax": 388349.586,
  "spatialReference": {
   "wkid": 103435,
   "latestWkid": 103435
  }
 },
 "initialExtent": {
  "xmin": 121293.692786,
  "ymin": 226593.58600000013,
  "xmax": 275486.69278599985,
  "ymax": 388349.586,
  "spatialReference": {
   "wkid": 103435,
   "latestWkid": 103435
  }
 },
 "fullExtent": {
  "xmin": 121293.692786,
  "ymin": 226593.58600000013,
  "xmax": 275486.69278599985,
  "ymax": 388349.586,
  "spatialReference": {
   "wkid": 103435,
   "latestWkid": 103435
  }
 },
 "sortableFields": "",
 "bandCount": 3,
 "pixelType": "U8",
 "minValues": [
  0,
  0,
  2
 ],
 "maxValues": [
  255,
  255,
  255
 ],
 "meanValues": [
  141.94120586276,
  141.97001998668,
  135.67205196536
 ],
 "stdvValues": [
  72.667773490561,
  71.139730060899,
  74.439718546319
 ],
 "serviceProperties": "Center<\/MosaicMethod>First<\/MosaicOperator>true<\/SortAscending><\/LockImageID><\/TileOrderField>0<\/TileOrderBase>0.000000<\/AvgImageSpacingX>0.000000<\/AvgImageSpacingY>0.0<\/ViewPointX>0.0<\/ViewPointY>0.0<\/ViewPointDefShiftX>0.0<\/ViewPointDefShiftY>None<\/CompressionMethod>75<\/CompressionQuality>0.010000<\/CompressionTolerance>Bilinear<\/SamplingMethod><\/ImageServiceProperties><\/ImageServer>",
 "allowedFields": "",
 "hasMultidimensions": false,
 "pixelSizeX": 0.999999999999999,
 "pixelSizeY": 0.9999999999999993,
 "meanPixelSize": 0.30480060960121896,
 "datasetFormat": "MrSID",
 "uncompressedSize": 74824928724,
 "blockWidth": 1024,
 "blockHeight": 128,
 "compressionType": "Wavelet (MG3)",
 "bandNames": [
  "Band_1",
  "Band_2",
  "Band_3"
 ],
 "allowCopy": true,
 "allowAnalysis": true,
 "itemAccess": false,
 "inspectionCapabilities": "",
 "minPixelSize": 0,
 "maxPixelSize": 0,
 "copyrightText": "",
 "serviceDataType": "esriImageServiceDataTypeRGB",
 "serviceSourceType": "esriImageServiceSourceTypeDataset",
 "objectIdField": "",
 "fields": [],
 "capabilities": "Mensuration,Image,Metadata",
 "defaultMosaicMethod": "Center",
 "allowedMosaicMethods": "",
 "sortField": "",
 "sortValue": null,
 "sortAscending": true,
 "mosaicOperator": "First",
 "defaultCompressionQuality": 75,
 "defaultResamplingMethod": "Bilinear",
 "maxImageHeight": 4100,
 "maxImageWidth": 15000,
 "allowRasterFunction": true,
 "rasterFunctionInfos": [
  {
   "name": "None",
   "description": "",
   "help": ""
  }
 ],
 "rasterTypeInfos": [
  {
   "name": "Raster Dataset",
   "description": "Supports all ArcGIS Raster Datasets",
   "help": ""
  }
 ],
 "mensurationCapabilities": "Basic",
 "hasHistograms": true,
 "hasColormap": false,
 "hasRasterAttributeTable": false,
 "minScale": 0,
 "maxScale": 0,
 "exportTilesAllowed": false,
 "supportsStatistics": false,
 "supportsAdvancedQueries": false,
 "editFieldsInfo": null,
 "ownershipBasedAccessControlForRasters": null,
 "allowComputeTiePoints": false,
 "useStandardizedQueries": true,
 "advancedQueryCapabilities": {
  "useStandardizedQueries": true,
  "supportsStatistics": false,
  "supportsOrderBy": false,
  "supportsDistinct": false,
  "supportsPagination": false
 },
 "spatialReference": {
  "wkid": 103435,
  "latestWkid": 103435
 },
 "resampling": false
}
