View In:
ArcGIS JavaScript
ArcGIS Online Map Viewer
ArcGIS Earth
Service Description: Aerial/River_Point_June_2025
Name: Aerial/River_Point_June_2025
Description:
Single Fused Map Cache: false
Extent:
XMin: 446706.3250618199
YMin: 4882288.61944488
XMax: 447191.1474914769
YMax: 4882810.735907587
Spatial Reference: 32616
(32616)
VCSWkid(5773)
LatestVCSWkid(5773)
Initial Extent:
XMin: 446706.3250618199
YMin: 4882288.61944488
XMax: 447191.1474914769
YMax: 4882810.735907587
Spatial Reference: 32616
(32616)
VCSWkid(5773)
LatestVCSWkid(5773)
Full Extent:
XMin: 446706.3250618199
YMin: 4882288.61944488
XMax: 447191.1474914769
YMax: 4882810.735907587
Spatial Reference: 32616
(32616)
VCSWkid(5773)
LatestVCSWkid(5773)
Pixel Size X: 0.018647016525268553
Pixel Size Y: 0.018647016525268553
Band Count: 3
Pixel Type: U8
RasterFunction Infos: {"rasterFunctionInfos": [{
"name": "None",
"description": "",
"help": ""
}]}
Mensuration Capabilities: Basic
Inspection Capabilities:
Has Histograms: true
Has Colormap: false
Has Multi Dimensions : false
Rendering Rule:
Min Scale: 0
Max Scale: 0
Resampling: false
Copyright Text:
Service Data Type: esriImageServiceDataTypeRGB
Min Values: 1, 1, 1
Max Values: 254, 254, 254
Mean Values: 146.99506578874, 141.82901209496, 134.20873049789
Standard Deviation Values: 58.151715769322, 57.041922260535, 61.072297129868
Object ID Field:
Fields:
None
Default Mosaic Method: Center
Allowed Mosaic Methods:
SortField:
SortValue: null
Mosaic Operator: First
Default Compression Quality: 75
Default Resampling Method: Bilinear
Max Record Count: null
Max Image Height: 4100
Max Image Width: 15000
Max Download Image Count: null
Max Mosaic Image Count: null
Allow Raster Function: true
Allow Copy: true
Allow Analysis: true
Allow Compute TiePoints: false
Supports Statistics: false
Supports Advanced Queries: false
Use StandardizedQueries: true
Raster Type Infos:
Name: Raster Dataset
Description: Supports all ArcGIS Raster Datasets
Help:
Has Raster Attribute Table: false
Edit Fields Info: null
Ownership Based AccessControl For Rasters: null
Child Resources:
Info
Histograms
Statistics
Key Properties
Legend
Raster Function Infos
Supported Operations:
Export Image
Identify
Measure
Compute Histograms
Compute Statistics Histograms
Get Samples
Compute Class Statistics
Query Boundary
Compute Pixel Location
Compute Angles
Validate
Project