View In:
ArcGIS JavaScript
ArcGIS Online Map Viewer
ArcGIS Earth
Service Description: River Point Phase 1 Aerial - Fall 2022
Name: Aerial/RiverPointAerial
Description: River Point Phase 1 Aerial - Fall 2022
Single Fused Map Cache: false
Extent:
XMin: 446862.166214
YMin: 4882309.6678800015
XMax: 447190.14289399754
YMax: 4882801.632899998
Spatial Reference: 32616
(32616)
VCSWkid(5773)
LatestVCSWkid(5773)
Initial Extent:
XMin: 446862.166214
YMin: 4882309.6678800015
XMax: 447190.14289399754
YMax: 4882801.632899998
Spatial Reference: 32616
(32616)
VCSWkid(5773)
LatestVCSWkid(5773)
Full Extent:
XMin: 446862.166214
YMin: 4882309.6678800015
XMax: 447190.14289399754
YMax: 4882801.632899998
Spatial Reference: 32616
(32616)
VCSWkid(5773)
LatestVCSWkid(5773)
Pixel Size X: 0.016398833999875934
Pixel Size Y: 0.016398833999875934
Band Count: 3
Pixel Type: U8
RasterFunction Infos: {"rasterFunctionInfos": [{
"name": "None",
"description": "",
"help": ""
}]}
Mensuration Capabilities: Basic
Inspection Capabilities:
Has Histograms: true
Has Colormap: false
Has Multi Dimensions : false
Rendering Rule:
Min Scale: 0
Max Scale: 0
Resampling: false
Copyright Text:
Service Data Type: esriImageServiceDataTypeRGB
Min Values: 1, 1, 4
Max Values: 254, 254, 254
Mean Values: 134.8378449567, 127.79804177532, 120.58784825786
Standard Deviation Values: 52.886787698777, 50.981677259734, 54.129072967526
Object ID Field:
Fields:
None
Default Mosaic Method: Center
Allowed Mosaic Methods:
SortField:
SortValue: null
Mosaic Operator: First
Default Compression Quality: 75
Default Resampling Method: Bilinear
Max Record Count: null
Max Image Height: 4100
Max Image Width: 15000
Max Download Image Count: null
Max Mosaic Image Count: null
Allow Raster Function: true
Allow Copy: true
Allow Analysis: true
Allow Compute TiePoints: false
Supports Statistics: false
Supports Advanced Queries: false
Use StandardizedQueries: true
Raster Type Infos:
Name: Raster Dataset
Description: Supports all ArcGIS Raster Datasets
Help:
Has Raster Attribute Table: false
Edit Fields Info: null
Ownership Based AccessControl For Rasters: null
Child Resources:
Info
Histograms
Statistics
Key Properties
Legend
Raster Function Infos
Supported Operations:
Export Image
Identify
Measure
Compute Histograms
Compute Statistics Histograms
Get Samples
Compute Class Statistics
Query Boundary
Compute Pixel Location
Compute Angles
Validate
Project