<?xml version="1.0" encoding="UTF-8" standalone="no"?>
<metadata xml:lang="en">
<Esri>
<CreaDate>20201210</CreaDate>
<CreaTime>10480800</CreaTime>
<ArcGISFormat>1.0</ArcGISFormat>
<ArcGISstyle>FGDC CSDGM Metadata</ArcGISstyle>
<SyncOnce>FALSE</SyncOnce>
<DataProperties>
<itemProps>
<itemName Sync="TRUE">Manitowoc_2020.sid</itemName>
<imsContentType Sync="TRUE" export="False">002</imsContentType>
<nativeExtBox>
<westBL Sync="TRUE">203692.780000</westBL>
<eastBL Sync="TRUE">246114.780000</eastBL>
<southBL Sync="TRUE">283498.291000</southBL>
<northBL Sync="TRUE">325933.541000</northBL>
<exTypeCode Sync="TRUE">1</exTypeCode>
</nativeExtBox>
</itemProps>
<coordRef>
<type Sync="TRUE">Projected</type>
<geogcsn Sync="TRUE">GCS_NAD83_2011</geogcsn>
<csUnits Sync="TRUE">Linear Unit: Foot_US (0.304801)</csUnits>
<projcsn Sync="TRUE">NAD_1983_2011_WISCRS_Kewaunee_Manitowoc_Sheboygan_Feet</projcsn>
<peXml Sync="TRUE">&lt;ProjectedCoordinateSystem xsi:type='typens:ProjectedCoordinateSystem' xmlns:xsi='http://www.w3.org/2001/XMLSchema-instance' xmlns:xs='http://www.w3.org/2001/XMLSchema' xmlns:typens='http://www.esri.com/schemas/ArcGIS/10.7'&gt;&lt;WKT&gt;PROJCS[&amp;quot;NAD_1983_2011_WISCRS_Kewaunee_Manitowoc_Sheboygan_Feet&amp;quot;,GEOGCS[&amp;quot;GCS_NAD83_2011&amp;quot;,DATUM[&amp;quot;D_NAD83_National_Spatial_Reference_System_2011&amp;quot;,SPHEROID[&amp;quot;GRS_1980&amp;quot;,6378137.0,298.257222101]],PRIMEM[&amp;quot;Greenwich&amp;quot;,0.0],UNIT[&amp;quot;Degree&amp;quot;,0.0174532925199433]],PROJECTION[&amp;quot;Transverse_Mercator&amp;quot;],PARAMETER[&amp;quot;false_easting&amp;quot;,262000.006],PARAMETER[&amp;quot;false_northing&amp;quot;,0.004],PARAMETER[&amp;quot;central_meridian&amp;quot;,-87.55],PARAMETER[&amp;quot;scale_factor&amp;quot;,1.0000233704],PARAMETER[&amp;quot;latitude_of_origin&amp;quot;,43.26666666666667],UNIT[&amp;quot;Foot_US&amp;quot;,0.3048006096012192]],VERTCS[&amp;quot;VCS Name = NAVD88 height - Geoid12B (ftUS)|Datum Name = North American Vertical&amp;quot;,VDATUM[&amp;quot;North American Vertical Datum 1988&amp;quot;],PARAMETER[&amp;quot;Vertical_Shift&amp;quot;,0.0],PARAMETER[&amp;quot;Direction&amp;quot;,1.0],UNIT[&amp;quot;US survey foot&amp;quot;,0.3048006096012192]]&lt;/WKT&gt;&lt;XOrigin&gt;-18187000&lt;/XOrigin&gt;&lt;YOrigin&gt;-48539200&lt;/YOrigin&gt;&lt;XYScale&gt;137238130.46309781&lt;/XYScale&gt;&lt;ZOrigin&gt;-100000&lt;/ZOrigin&gt;&lt;ZScale&gt;3048.0060960121918&lt;/ZScale&gt;&lt;MOrigin&gt;-100000&lt;/MOrigin&gt;&lt;MScale&gt;10000&lt;/MScale&gt;&lt;XYTolerance&gt;0.0032808333333333331&lt;/XYTolerance&gt;&lt;ZTolerance&gt;0.0032808333333333335&lt;/ZTolerance&gt;&lt;MTolerance&gt;0.001&lt;/MTolerance&gt;&lt;HighPrecision&gt;true&lt;/HighPrecision&gt;&lt;/ProjectedCoordinateSystem&gt;</peXml>
</coordRef>
<RasterProperties>
<General>
<PixelDepth Sync="TRUE">8</PixelDepth>
<HasColormap Sync="TRUE">FALSE</HasColormap>
<CompressionType Sync="TRUE">Wavelet (MG4)</CompressionType>
<NumBands Sync="TRUE">5</NumBands>
<Format Sync="TRUE">MrSID</Format>
<HasPyramids Sync="TRUE">TRUE</HasPyramids>
<SourceType Sync="TRUE">continuous</SourceType>
<PixelType Sync="TRUE">unsigned integer</PixelType>
<NoDataValue Sync="TRUE">
</NoDataValue>
</General>
</RasterProperties>
</DataProperties>
<SyncDate>20201211</SyncDate>
<SyncTime>12261200</SyncTime>
<ModDate>20201211</ModDate>
<ModTime>12261200</ModTime>
<scaleRange>
<minScale>150000000</minScale>
<maxScale>5000</maxScale>
</scaleRange>
<ArcGISProfile>FGDC</ArcGISProfile>
</Esri>
<dataIdInfo>
<envirDesc Sync="TRUE"> Version 6.2 (Build 9200) ; Esri ArcGIS 10.7.1.11595</envirDesc>
<dataLang>
<languageCode Sync="TRUE" value="eng">
</languageCode>
<countryCode Sync="TRUE" value="USA">
</countryCode>
</dataLang>
<idCitation>
<resTitle Sync="TRUE">Manitowoc_2020.sid</resTitle>
<presForm>
<PresFormCd Sync="TRUE" value="005">
</PresFormCd>
</presForm>
<citRespParty>
<rpOrgName>Ayres Associates</rpOrgName>
<role>
<RoleCd value="006">
</RoleCd>
</role>
<rpCntInfo>
<cntAddress addressType="both">
<delPoint>5201 E. Terrace Dr., Suite 200</delPoint>
<city>Madison</city>
<adminArea>Wisconsin</adminArea>
<postCode>53718</postCode>
<country>US</country>
</cntAddress>
<cntPhone>
<voiceNum tddtty="">(608) 443-1200</voiceNum>
<faxNum>(608) 299-2184</faxNum>
</cntPhone>
</rpCntInfo>
</citRespParty>
<date>
<createDate>2020-04-30T00:00:00</createDate>
<pubDate>2020-12-11T00:00:00</pubDate>
</date>
</idCitation>
<spatRpType>
<SpatRepTypCd Sync="TRUE" value="002">
</SpatRepTypCd>
</spatRpType>
<dataExt>
<geoEle>
<GeoBndBox esriExtentType="search">
<exTypeCode Sync="TRUE">1</exTypeCode>
<westBL Sync="TRUE">-87.772175</westBL>
<eastBL Sync="TRUE">-87.610411</eastBL>
<northBL Sync="TRUE">44.160768</northBL>
<southBL Sync="TRUE">44.044167</southBL>
</GeoBndBox>
</geoEle>
</dataExt>
<idPurp>This project established digital, 4-band orthoimagery for the City of Manitowoc, Wisconsin as part of the Wisconsin Regional Orthoimagery Consortium (WROC).</idPurp>
<idAbs>Ayres Associates provided the City of Manitowoc, Wisconsin with digital, 4-band orthoimagery services in 2020 as part of WROC. The aerial imagery was collected on April 30th, May 1st and 2nd using a Microsoft Vexcel UltraCam Eagle M3 sensor mounted in a fixed-wing aircraft. Aerial imagery was collected to support 0.25 foot ground sample distance (GSD) orthoimagery to meet ASPRS Class II horizontal accuracy specifications at 1" = 50' map scale. The 3-inch pixel orthoimagery was produced to meet or exceed a horizontal accuracy of 0.7 foot RMSE according to ASPRS Positional Accuracy Standards for Digital Geospatial Data. Resultant orthoimagery was rectified to a DEM created from existing LiDAR acquired in 2016. Orthoimagery was delivered in PLSS quarter-section GeoTiff and MrSID tiles and a project wide MrSID mosaic. The project area covers approximately 17.6 square miles. Supplemental Information: The Wisconsin Regional Orthoimagery Consortium (WROC) is a multi-entity group of county members and partners led by regional planning commissions (RPCs) and WROC representatives from Ayres Associates. The goal of the consortium is to build and sustain a multi-participant program to acquire digital orthoimagery and elevation data throughout Wisconsin. Orthoimagery was collected for the City of Manitowoc in 2020 to provide consistent deliverable products and accuracy standards for each of the participating entities.</idAbs>
<searchKeys>
<keyword>digital</keyword>
<keyword>4-band</keyword>
<keyword>orthoimagery</keyword>
<keyword>3-inch</keyword>
</searchKeys>
<resConst>
<Consts>
<useLimit>Not to be used for purposes other than those strictly outlined in the 2020 WROC City of Manitowoc program.</useLimit>
</Consts>
</resConst>
<themeKeys>
<keyword>Wisconsin Regional Orthoimagery Consortium (WROC)</keyword>
</themeKeys>
<placeKeys>
<keyword>City of Manitowoc, Manitowoc County, Wisconsin</keyword>
</placeKeys>
<dataChar>
<CharSetCd value="004">
</CharSetCd>
</dataChar>
<idStatus>
<ProgCd value="001">
</ProgCd>
</idStatus>
<idPoC>
<rpIndName>Jeremy Du Chateau</rpIndName>
<rpOrgName>City of Manitowoc</rpOrgName>
<rpPosName>GIS Coordinator/Associate Planner</rpPosName>
<role>
<RoleCd value="007">
</RoleCd>
</role>
<rpCntInfo>
<cntAddress addressType="">
<delPoint>900 Quay St.</delPoint>
<city>Manitowoc</city>
<adminArea>Wisconsin</adminArea>
<postCode>54220</postCode>
<eMailAdd>jduchateau@manitowoc.org</eMailAdd>
<country>US</country>
</cntAddress>
</rpCntInfo>
</idPoC>
<resMaint>
<maintFreq>
<MaintFreqCd value="011">
</MaintFreqCd>
</maintFreq>
</resMaint>
<tpCat>
<TopicCatCd value="010">
</TopicCatCd>
</tpCat>
<idCredit/>
</dataIdInfo>
<mdLang>
<languageCode Sync="TRUE" value="eng">
</languageCode>
<countryCode Sync="TRUE" value="USA">
</countryCode>
</mdLang>
<mdChar>
<CharSetCd Sync="TRUE" value="004">
</CharSetCd>
</mdChar>
<distInfo>
<distFormat>
<formatName Sync="TRUE">Raster Dataset</formatName>
</distFormat>
</distInfo>
<mdHrLv>
<ScopeCd Sync="TRUE" value="005">
</ScopeCd>
</mdHrLv>
<mdHrLvName Sync="TRUE">dataset</mdHrLvName>
<refSysInfo>
<RefSystem>
<refSysID>
<identCode Sync="TRUE" code="0">
</identCode>
<idCodeSpace Sync="TRUE">EPSG</idCodeSpace>
<idVersion Sync="TRUE">8.8(10.4.0)</idVersion>
</refSysID>
</RefSystem>
</refSysInfo>
<spatRepInfo>
<Georect>
<cellGeo>
<CellGeoCd Sync="TRUE" value="002">
</CellGeoCd>
</cellGeo>
<numDims Sync="TRUE">2</numDims>
<tranParaAv Sync="TRUE">1</tranParaAv>
<chkPtAv Sync="TRUE">0</chkPtAv>
<cornerPts>
<pos Sync="TRUE">203692.780000 283498.291000</pos>
</cornerPts>
<cornerPts>
<pos Sync="TRUE">203692.780000 325933.541000</pos>
</cornerPts>
<cornerPts>
<pos Sync="TRUE">246114.780000 325933.541000</pos>
</cornerPts>
<cornerPts>
<pos Sync="TRUE">246114.780000 283498.291000</pos>
</cornerPts>
<centerPt>
<pos Sync="TRUE">224903.780000 304715.916000</pos>
</centerPt>
<axisDimension type="002">
<dimSize Sync="TRUE">169688</dimSize>
<dimResol>
<value Sync="TRUE" uom="ftUS">0.250000</value>
</dimResol>
</axisDimension>
<axisDimension type="001">
<dimSize Sync="TRUE">169741</dimSize>
<dimResol>
<value Sync="TRUE" uom="ftUS">0.250000</value>
</dimResol>
</axisDimension>
<ptInPixel>
<PixOrientCd Sync="TRUE" value="001">
</PixOrientCd>
</ptInPixel>
</Georect>
</spatRepInfo>
<contInfo>
<ImgDesc>
<contentTyp>
<ContentTypCd Sync="TRUE" value="001">
</ContentTypCd>
</contentTyp>
<covDim>
<Band>
<dimDescrp Sync="TRUE">Band_1</dimDescrp>
<bitsPerVal Sync="TRUE">8</bitsPerVal>
<valUnit>
<UOM type="length">
</UOM>
</valUnit>
<maxVal Sync="TRUE">248.000000</maxVal>
<minVal Sync="TRUE">0.000000</minVal>
</Band>
<Band>
<dimDescrp Sync="TRUE">Band_2</dimDescrp>
<bitsPerVal Sync="TRUE">8</bitsPerVal>
<valUnit>
<UOM type="length">
</UOM>
</valUnit>
<maxVal Sync="TRUE">251.000000</maxVal>
<minVal Sync="TRUE">0.000000</minVal>
</Band>
<Band>
<dimDescrp Sync="TRUE">Band_3</dimDescrp>
<bitsPerVal Sync="TRUE">8</bitsPerVal>
<valUnit>
<UOM type="length">
</UOM>
</valUnit>
<maxVal Sync="TRUE">254.000000</maxVal>
<minVal Sync="TRUE">0.000000</minVal>
</Band>
<Band>
<dimDescrp Sync="TRUE">Band_4</dimDescrp>
<bitsPerVal Sync="TRUE">8</bitsPerVal>
<valUnit>
<UOM type="length">
</UOM>
</valUnit>
<maxVal Sync="TRUE">246.000000</maxVal>
<minVal Sync="TRUE">0.000000</minVal>
</Band>
<Band>
<dimDescrp Sync="TRUE">Band_5</dimDescrp>
<maxVal Sync="TRUE">255.000000</maxVal>
<minVal Sync="TRUE">0.000000</minVal>
<bitsPerVal Sync="TRUE">8</bitsPerVal>
<valUnit>
<UOM type="length">
</UOM>
</valUnit>
</Band>
</covDim>
</ImgDesc>
</contInfo>
<mdDateSt Sync="TRUE">20201211</mdDateSt>
<mdContact>
<rpOrgName>Ayres Associates</rpOrgName>
<role>
<RoleCd value="006">
</RoleCd>
</role>
<rpCntInfo>
<cntAddress addressType="both">
<delPoint>5201 E. Terrace Dr., Suite 200</delPoint>
<city>Madison</city>
<adminArea>Wisconsin</adminArea>
<postCode>53718</postCode>
<country>US</country>
</cntAddress>
<cntPhone>
<voiceNum tddtty="">(608) 443-1200</voiceNum>
<faxNum>(608) 299-2184</faxNum>
</cntPhone>
</rpCntInfo>
<displayName>Ayres Associates</displayName>
</mdContact>
<mdMaint>
<maintFreq>
<MaintFreqCd value="011">
</MaintFreqCd>
</maintFreq>
</mdMaint>
<dqInfo>
<report dimension="vertical" type="DQConcConsis">
<measDesc>Images were color corrected to match adjacent flight lines. The resulting imagery was globally tilted in terms of contrast and color to form a radiometrically consistent orthophoto mosaic.</measDesc>
</report>
<report dimension="" type="DQCompOm">
<measDesc>These data cover the entirety of the 2020 WROC City of Manitowoc program.</measDesc>
</report>
<dataLineage>
<prcStep>
<stepDesc>Ground control consisted of photo identifiable surveyed points. The imagery was collected using a Microsoft Vexcel UltraCam Eagle M3 at 7cm GSD. Image quality was verified during the post flight review phase. Factors considered during this review included, but were not limited to, the presence of cloud cover, contrails, light conditions and sun flare. A rigorous Aerotriangulation process was performed and supplemented by the photo ID survey points. The triangulated strips were rectified to a DEM created from existing LiDAR acquired in 2016. The imagery was mosaicked using manual seamlines generation and tone/color balanced to a project-wide consistency. PLSS quarter-section RGBN tiles were extracted from the mosaic and each individual tile was reviewed for artifacts and anomalies and adjusted as part of quality control procedures. The images were reviewed for rectification problems such as bridge displacements and seamline issues caused by the underlying digital elevation model. When necessary, local corrections to the imagery were performed to minimize such effects. </stepDesc>
<stepDateTm>2020-06-05T00:00:00</stepDateTm>
</prcStep>
</dataLineage>
</dqInfo>
</metadata>
